BEGIN:VCALENDAR
VERSION:2.0
PRODID:-//Vängåvans Bok &amp; Papper AB - ECPv6.15.20//NONSGML v1.0//EN
CALSCALE:GREGORIAN
METHOD:PUBLISH
X-WR-CALNAME:Vängåvans Bok &amp; Papper AB
X-ORIGINAL-URL:https://www.vangavan.se
X-WR-CALDESC:Händelser för Vängåvans Bok &amp; Papper AB
REFRESH-INTERVAL;VALUE=DURATION:PT1H
X-Robots-Tag:noindex
X-PUBLISHED-TTL:PT1H
BEGIN:VTIMEZONE
TZID:Europe/Stockholm
BEGIN:DAYLIGHT
TZOFFSETFROM:+0100
TZOFFSETTO:+0200
TZNAME:CEST
DTSTART:20250330T010000
END:DAYLIGHT
BEGIN:STANDARD
TZOFFSETFROM:+0200
TZOFFSETTO:+0100
TZNAME:CET
DTSTART:20251026T010000
END:STANDARD
BEGIN:DAYLIGHT
TZOFFSETFROM:+0100
TZOFFSETTO:+0200
TZNAME:CEST
DTSTART:20260329T010000
END:DAYLIGHT
BEGIN:STANDARD
TZOFFSETFROM:+0200
TZOFFSETTO:+0100
TZNAME:CET
DTSTART:20261025T010000
END:STANDARD
BEGIN:DAYLIGHT
TZOFFSETFROM:+0100
TZOFFSETTO:+0200
TZNAME:CEST
DTSTART:20270328T010000
END:DAYLIGHT
BEGIN:STANDARD
TZOFFSETFROM:+0200
TZOFFSETTO:+0100
TZNAME:CET
DTSTART:20271031T010000
END:STANDARD
END:VTIMEZONE
BEGIN:VEVENT
DTSTART;TZID=Europe/Stockholm:20260428T183000
DTEND;TZID=Europe/Stockholm:20260428T200000
DTSTAMP:20260424T134751
CREATED:20260328T134905Z
LAST-MODIFIED:20260328T134908Z
UID:26510-1777401000-1777406400@www.vangavan.se
SUMMARY:Boksläpp med Thomas Svensson & Ulrika Hägglund\, Skuggvandraren
DESCRIPTION:Vi välkomnar författarparet Thomas Svensson & Ulrika Hägglund tisdag den 28 april kl.18:30. Som då har BOKSLÄPP av sin senaste bok “Skuggvandraren”\, uppföljaren till hyllade debuten “Nattvandraren”.\n\n\n\n\n\n\n\nSkuggvandraren är en suggestiv spänningsroman\, den andra och fristående delen i trilogin om Nattvandraren som är besatt av sin dödliga lek med en vanlig småbarnsfamilj. Bakom den blint slående ondskan som lurar i skuggorna på Therese villatomt finns en berättelse om vad en människa är beredd att göra för att dölja sitt förflutna. \n\n\n\nBiljett (50 kr) köper du i butiken på Storgatan 22 (kommer v14) eller i vår webbshop. \n\n\n\nVälkommen!
URL:https://www.vangavan.se/event/bokslapp-med-thomas-svensson-ulrika-hagglund-skuggvandraren/
LOCATION:Vängåvans Bok & Papper AB\, Storgatan 22\, Sundsvall\, 85231\, Sverige
CATEGORIES:Bokens Afton
ATTACH;FMTTYPE=image/jpeg:https://media.vangavan.se/2025/08/hagglund-svensson-fotograf-ulrika-hagglund-480px.jpg
ORGANIZER;CN="V%C3%A4ng%C3%A5vans Bok & Papper AB":MAILTO:info@vangavan.se
END:VEVENT
BEGIN:VEVENT
DTSTART;TZID=Europe/Stockholm:20260505T113000
DTEND;TZID=Europe/Stockholm:20260505T133000
DTSTAMP:20260424T134751
CREATED:20260408T092739Z
LAST-MODIFIED:20260408T092746Z
UID:26557-1777980600-1777987800@www.vangavan.se
SUMMARY:Signering med Pia Hankö
DESCRIPTION:Vi välkomnar författaren Pia Hankö som signerar sin bok “Andas under vattnet” den 5 maj\, 11.30-13.30\n\n\n\n\n\n\n\n“Min bok handlar om en ung\, svensk kvinna som kastar sig ut i ett äventyr genom att flytta in till en mauretansk man som bor på Lanzarote.”\, Pia\n\n\n\nVarför ska man läsa min bok?“Varför ska man läsa min bok? Ja… om man är intresserad av hur det kan vara att leva utanför Sverige och upptäcka andra kulturer\, att gå ut ur sin bekvämlighetszon och om man förfaras över hur många kvinnor som blir fysiskt och psykiskt misshandlade av sina män eller ex-män\, så är det här en bok som kan vara intressant.”\, Pia \n\n\n\nOm Boken:\n\n\n\nAnna drogs mot havet för att få andas\, för att få en stund för sig själv. Det var hennes sätt att för en stund försvinna från alla problem. Hon hade lyssnat på sitt hjärta och följt sin intuition. Hon hade börjat ett nytt liv med Seedy\, som hon trodde var mannen i hennes liv\, på paradisön Lanzarote. \n\n\n\nMen det tycktes hela tiden komma något i deras väg för att vara lyckliga. Det var inte bara kulturkrockar och olika sätt att se på livet\, det var också religionen och hans familj som hela tiden grumlade lyckan. Och ju mer Anna lärde känna Seedy desto mer såg hon hans många mörka sidor. Ibland var det så jobbigt att enda stället hon kände att hon verkligen kunde andas var under havets vattenyta. \n\n\n\n”Vattenytan försvann sakta över mitt huvud och små bubblor formades runt mitt ansikte när jag blåste ut luft genom näsan. Jag hade slutna ögon och ljudet av havet vaggade mig sakta till ett stadie där ingenting kunde nå mig. Här var jag skyddad från alla förväntningar och resultat. Här kunde inte skuldkänslan över att inte räcka till nå mig. Här kunde inte Seedy se att jag grät. Här flöt jag ihop med havet och försvann långt bort som om vågorna hade tagit mig med dem. Här behövde jag inte heller känna att jag sakta höll på att förlora mig själv.” \n\n\n\nBOKFAKTA:\n\n\n\nFörlag: Pia&CoISBN: 9789189059351Utgiven: 2025Språk: SvenskaFormat: InbundenSidor: 407Genre: SkönlitteraturNyckelord: \n\n\n\nEventet är gratis! Välkommen!
URL:https://www.vangavan.se/event/signering-med-pia-hanko/
LOCATION:Vängåvans Bok & Papper AB\, Storgatan 22\, Sundsvall\, 85231\, Sverige
CATEGORIES:Signering
ATTACH;FMTTYPE=image/jpeg:https://media.vangavan.se/2026/04/pia-hanko-480px.jpg
ORGANIZER;CN="V%C3%A4ng%C3%A5vans Bok & Papper AB":MAILTO:info@vangavan.se
END:VEVENT
END:VCALENDAR