BEGIN:VCALENDAR
VERSION:2.0
PRODID:-//Vängåvans Bok &amp; Papper AB - ECPv6.15.20//NONSGML v1.0//EN
CALSCALE:GREGORIAN
METHOD:PUBLISH
X-WR-CALNAME:Vängåvans Bok &amp; Papper AB
X-ORIGINAL-URL:https://www.vangavan.se
X-WR-CALDESC:Händelser för Vängåvans Bok &amp; Papper AB
REFRESH-INTERVAL;VALUE=DURATION:PT1H
X-Robots-Tag:noindex
X-PUBLISHED-TTL:PT1H
BEGIN:VTIMEZONE
TZID:Europe/Stockholm
BEGIN:DAYLIGHT
TZOFFSETFROM:+0100
TZOFFSETTO:+0200
TZNAME:CEST
DTSTART:20190331T010000
END:DAYLIGHT
BEGIN:STANDARD
TZOFFSETFROM:+0200
TZOFFSETTO:+0100
TZNAME:CET
DTSTART:20191027T010000
END:STANDARD
BEGIN:DAYLIGHT
TZOFFSETFROM:+0100
TZOFFSETTO:+0200
TZNAME:CEST
DTSTART:20200329T010000
END:DAYLIGHT
BEGIN:STANDARD
TZOFFSETFROM:+0200
TZOFFSETTO:+0100
TZNAME:CET
DTSTART:20201025T010000
END:STANDARD
BEGIN:DAYLIGHT
TZOFFSETFROM:+0100
TZOFFSETTO:+0200
TZNAME:CEST
DTSTART:20210328T010000
END:DAYLIGHT
BEGIN:STANDARD
TZOFFSETFROM:+0200
TZOFFSETTO:+0100
TZNAME:CET
DTSTART:20211031T010000
END:STANDARD
BEGIN:DAYLIGHT
TZOFFSETFROM:+0100
TZOFFSETTO:+0200
TZNAME:CEST
DTSTART:20220327T010000
END:DAYLIGHT
BEGIN:STANDARD
TZOFFSETFROM:+0200
TZOFFSETTO:+0100
TZNAME:CET
DTSTART:20221030T010000
END:STANDARD
BEGIN:DAYLIGHT
TZOFFSETFROM:+0100
TZOFFSETTO:+0200
TZNAME:CEST
DTSTART:20230326T010000
END:DAYLIGHT
BEGIN:STANDARD
TZOFFSETFROM:+0200
TZOFFSETTO:+0100
TZNAME:CET
DTSTART:20231029T010000
END:STANDARD
END:VTIMEZONE
BEGIN:VEVENT
DTSTART;TZID=Europe/Stockholm:20220627T120000
DTEND;TZID=Europe/Stockholm:20220627T160000
DTSTAMP:20260425T043439
CREATED:20220609T145638Z
LAST-MODIFIED:20220609T145638Z
UID:14128-1656331200-1656345600@www.vangavan.se
SUMMARY:Signering med Pia F Davidson och Carina Aynsley
DESCRIPTION:Sommarturné 2022\nVälkommen att träffa författarna Pia och Carina den 27 juni kl. 12-16.\nFörfattarna Pia F Davidson\, Danderyd\, och Carina Aynsley\, Sundsvall\, ger sig ännu en gång ut på en gemensam signerings-turné\, denna gång besöker de Jämtland och Västernorrland.\nBåde Pia och Carina skriver för en bred publik\, med mycket humor och medmänsklighet. Tillsammans har de ett tiotal titlar och fler är på gång. \n\nPias produktion: feelgood-deckare\, historisk roman och feelgood.\nCarinas produktion: roman\, novellsamling\, rese-/fotobok\, skröna.\n\n \n\nExterna länkar:\nPias hemsida: piafdavidson.se\nCarinas hemsida: aynsley.se \n\n 
URL:https://www.vangavan.se/event/signering-med-pia-f-davidson-och-carina-aynsley/
LOCATION:Vängåvans Bok & Papper AB\, Storgatan 22\, Sundsvall\, 85231\, Sverige
CATEGORIES:Signering
ATTACH;FMTTYPE=image/jpeg:https://media.vangavan.se/2022/06/Signering-Carina-Pia-1000px.jpg
ORGANIZER;CN="V%C3%A4ng%C3%A5vans Bok & Papper AB":MAILTO:info@vangavan.se
END:VEVENT
BEGIN:VEVENT
DTSTART;TZID=Europe/Stockholm:20220618T120000
DTEND;TZID=Europe/Stockholm:20220618T140000
DTSTAMP:20260425T043439
CREATED:20220614T101937Z
LAST-MODIFIED:20220614T101937Z
UID:14170-1655553600-1655560800@www.vangavan.se
SUMMARY:Bokrelease - Svenåke Boström - Om jag varit en humla
DESCRIPTION:Svenåke Boström – En högst ordinär kille från Sundsvall? Knappast! \nFrågan är om det över huvud taget finns några ”vanliga människor”.\nI den här biografin får vi följa Svenåkes väg till drömyrket – att bli journalist. \nLäs gärna mera om Svenåkes nya bok “Om jag varit en humla“. \nVälkommen på lördag 18 juni mellan kl. 12-14.
URL:https://www.vangavan.se/event/bokrelease-svenake-bostrom-om-jag-varit-en-humla/
LOCATION:Vängåvans Bok & Papper AB\, Storgatan 22\, Sundsvall\, 85231\, Sverige
CATEGORIES:Signering
ATTACH;FMTTYPE=image/jpeg:https://media.vangavan.se/2022/06/Bokrelease-Bostrom-1000px.jpg
ORGANIZER;CN="V%C3%A4ng%C3%A5vans Bok & Papper AB":MAILTO:info@vangavan.se
END:VEVENT
BEGIN:VEVENT
DTSTART;TZID=Europe/Stockholm:20220606T120000
DTEND;TZID=Europe/Stockholm:20220606T150000
DTSTAMP:20260425T043439
CREATED:20220525T135601Z
LAST-MODIFIED:20220525T135601Z
UID:14023-1654516800-1654527600@www.vangavan.se
SUMMARY:Nationaldagen 6 juni
DESCRIPTION:Äntligen är det möjligt att anordna ett ordentligt firande igen\, som det senaste år 2019 med mängder av aktiviteter i Sundsvall City\, på gator och torg. Artister och tal från Stora scenen på torget\, parad\, knallar och mycket annat. \nVi reser Litteraturscenen på Storgatan utanför butiken och lyfter ut borden där alla författarna kommer att stå och samtala med intresserade läsare. \nLitteraturscenen vid Vängåvans Bokhandel\n12.00 Invigning av Litteraturscenen\n12.05 Petra Torell Hagström\, Sundsvallspromenader\n12.15 Erik Nilshammar\, Klas Knutsson\, Spänning\n12.30 Hans Söderlund\, Sci-fi thriller\n12.45 Olle Håkansson\, Annika Sjögren\, Spänning\n13.00 Susanne Fellbrink\, Cozy crime\n13.15 Tua Burlin\, Carina Aynsley\, Romaner\n13.30 Charlotte Kalla\, Självbiografi\n13.50 Lars Nylin\, Sport\n14.10 Helena Eriksson\, Sofia Weiss\, Jenny Almquist\, Mymoa Wängdahl\, Barnböcker\n14.30 Anna Jacobsson Lund\, Böcker för unga vuxna\n14.40 Smultron & Sång\, musikjympa & hålligång för alla barn\n15.20 Barnens Bokregn\, Bokfen delar ut böcker till alla barn \nMed reservation för eventuella ändringar. \n 
URL:https://www.vangavan.se/event/nationaldagen-6-juni/
LOCATION:Vängåvans Bok & Papper AB\, Storgatan 22\, Sundsvall\, 85231\, Sverige
CATEGORIES:Bokens Afton
ATTACH;FMTTYPE=image/jpeg:https://media.vangavan.se/2022/05/Nationaldagen_2022_900.jpg
ORGANIZER;CN="V%C3%A4ng%C3%A5vans Bok & Papper AB":MAILTO:info@vangavan.se
END:VEVENT
BEGIN:VEVENT
DTSTART;TZID=Europe/Stockholm:20220521T120000
DTEND;TZID=Europe/Stockholm:20220521T150000
DTSTAMP:20260425T043439
CREATED:20220520T104756Z
LAST-MODIFIED:20220520T111534Z
UID:13911-1653134400-1653145200@www.vangavan.se
SUMMARY:Boksignering med Carina Aynsley
DESCRIPTION:Under lördagen den 21/5 mellan kl. 12-15 har du möjlighet att träffa “vår” Carina Aynsley.\nPassa på att köpa signerade böcker\, kanske en morsdagspresent! \nHennes senaste bok heter 52 år och okysst och den tidigare\, Lite salt\, lite surt och resten sött. \n\n! ! ! Carina har även två nya böcker som kommer i början av Juni:\n \n\nGrannar – i nöd och lust: den första av två fartfyllda pocketromaner där det mest oväntade händer.\nGrannar – hämndens timma: En tragikomisk och romantisk spänningsroman som lockar till både skratt och tårar och är en fristående fortsättning på Grannar i nöd och lust.\n\n\nVi har öppet 10-16\, Välkommen! \nBesök gärna Carinas hemsida. \n\n 
URL:https://www.vangavan.se/event/boksignering-med-carina-aynsley-2/
LOCATION:Vängåvans Bok & Papper AB\, Storgatan 22\, Sundsvall\, 85231\, Sverige
CATEGORIES:Signering
ATTACH;FMTTYPE=image/jpeg:https://media.vangavan.se/2021/12/Carina_Aynsley_1000px.jpg
ORGANIZER;CN="V%C3%A4ng%C3%A5vans Bok & Papper AB":MAILTO:info@vangavan.se
END:VEVENT
BEGIN:VEVENT
DTSTART;TZID=Europe/Stockholm:20211211T110000
DTEND;TZID=Europe/Stockholm:20211211T140000
DTSTAMP:20260425T043439
CREATED:20211207T105021Z
LAST-MODIFIED:20211207T105021Z
UID:12296-1639220400-1639231200@www.vangavan.se
SUMMARY:Signering Helena Eriksson
DESCRIPTION:Välkommen till en boksignering med Helena Eriksson.\nHelena kommer att signera sin nya bok “Sweet dreams\, Elina“. En ungdomsbok för åldern 6-9 år. \nLäs mera om boken här! \nHelena Eriksson är uppfödd och bor i Sundsvall. Sedan hon var liten har hon tyckt om att läsa och att skriva – få försvinna in i fantasins värld en stund\, där allt kan hända. Allt som skrevs då finns kvar i en byrålåda. Men så kom livet emellan och skrivandet kom av sig. Men så hösten 2018 kom inspirationen tillbaka\, och det med fart. Hösten 2021 debuterar hon med två böcker – Sweet dreams\, Elina\, en kapitelbok för åldern 6-9 år\, samt Akta dig\, Stina\, en bilderbok med bilder av Joanna Schmidt.
URL:https://www.vangavan.se/event/signering-helena-eriksson/
LOCATION:Vängåvans Bok & Papper AB\, Storgatan 22\, Sundsvall\, 85231\, Sverige
CATEGORIES:Signering
ATTACH;FMTTYPE=image/jpeg:https://media.vangavan.se/2021/12/Helena-Eriksson-850.jpg
ORGANIZER;CN="V%C3%A4ng%C3%A5vans Bok & Papper AB":MAILTO:info@vangavan.se
END:VEVENT
BEGIN:VEVENT
DTSTART;TZID=Europe/Stockholm:20210605T120000
DTEND;TZID=Europe/Stockholm:20210605T140000
DTSTAMP:20260425T043439
CREATED:20210528T113845Z
LAST-MODIFIED:20210706T131838Z
UID:10046-1622894400-1622901600@www.vangavan.se
SUMMARY:Skadedjuret "Morden i Sundsvall" - Signering med Sofia Rustan
DESCRIPTION:Välkommen på boksignering med Sofia Rustan där Sofia signerar sin debutroman Skadedjuret.\nVärmeböljan håller ett stadigt grepp över Sundsvall när en illa tilltygad man flyter iland på en ö i hamninloppet till staden. Kriminalinspektör Amanda Junisson och hennes kollega Claes Johansson påbörjar utredningsarbetet. Medan de försöker identifiera mannen flyr hans dotter för sitt liv. Mördaren har sett henne och hon måste hålla sig gömd för att överleva. Frågan är vem som ska hitta Kati först\, polisen eller gärningsmannen?\nI takt med att mordutredningen växer blir Amandas privatliv mer komplicerat. Hennes pojkvän har precis friat men i glädjeruset finns en oro som gnager och minnen från det förflutna gör sig påminda.\nEn het sommar går mot höst\, och samtidigt som polisen kämpar för att lösa gåtan letar mördaren efter sitt nästa offer. \nSOFIA RUSTAN är jurist och arbetar på ett nordiskt försäkringsbolag. Hon är uppvuxen i Gammelstad utanför Luleå men bor numera med sin familj i Juniskär söder om Sundsvall.  Skadedjuret är hennes debutroman\, och den första boken i en spänningsserie “Morden i Sundsvall” om kriminalinspektör Amanda Junisson.
URL:https://www.vangavan.se/event/skadedjuret-morden-i-sundsvall-signering-med-sofia-rustan/
LOCATION:Vängåvans Bok & Papper AB\, Storgatan 22\, Sundsvall\, 85231\, Sverige
CATEGORIES:Bokens Afton,Signering
ATTACH;FMTTYPE=image/jpeg:https://media.vangavan.se/2021/05/Sofia-Rustan_foto-Emmelie-Hedenstrom_900.jpg
ORGANIZER;CN="V%C3%A4ng%C3%A5vans Bok & Papper AB":MAILTO:info@vangavan.se
END:VEVENT
BEGIN:VEVENT
DTSTART;TZID=Europe/Stockholm:20210403T120000
DTEND;TZID=Europe/Stockholm:20210403T140000
DTSTAMP:20260425T043439
CREATED:20210310T152258Z
LAST-MODIFIED:20210310T155338Z
UID:8973-1617451200-1617458400@www.vangavan.se
SUMMARY:Signering med Margareta Rudbo
DESCRIPTION:Träffa Margareta Rudbo på Påskaftonen mellan kl. 12-14 då hon besöker oss för signering av sin nya bok “Eva-Maja\, Mormors mor berättar”.\nFölj med till 1940-talet och det lilla samhället Skönsberg utanför Sundsvall!\n\n\n\nLilla Eva-Maja växer upp i en familj där den trånga ekonomiska verkligheten finns nära. Föräldrarna arbetar hårt för att försörja den växande familjen. Eva-Maja tar oss med till skolan\, lekarna\, sommar på en lantgård och den svårförståeliga vuxenvärlden.\nOch varför gråter lillebror jämt? \nMargareta Rudbo presenterar med inspiration från sin egen barndom en värld som är nära\, men ändå så långt borta. En bok som kan läsas och diskuteras över generationer med episoder som säkert väcker många frågor från dagens barn. \nBoken finns till försäljning i vår webbshop!
URL:https://www.vangavan.se/event/signering-med-margareta-rudbo/
LOCATION:Vängåvans Bok & Papper AB\, Storgatan 22\, Sundsvall\, 85231\, Sverige
CATEGORIES:Signering
ATTACH;FMTTYPE=image/jpeg:https://media.vangavan.se/2021/03/9789189191747_1250.jpg
ORGANIZER;CN="V%C3%A4ng%C3%A5vans Bok & Papper AB":MAILTO:info@vangavan.se
END:VEVENT
BEGIN:VEVENT
DTSTART;TZID=Europe/Stockholm:20201107T120000
DTEND;TZID=Europe/Stockholm:20201107T150000
DTSTAMP:20260425T043439
CREATED:20201104T103035Z
LAST-MODIFIED:20201104T103322Z
UID:6756-1604750400-1604761200@www.vangavan.se
SUMMARY:Bokrelease med Petter Österlund
DESCRIPTION:Välkommen till bokrelease med Petter Österlund och hans nya bok Lenins Guld. Lördag 7 november kl.12.\nPetter Österlund från Sundsvall romandebuterar med en skröna från den stora revolutionens epok.\nOktoberrevolutionen firas den 7/11 så passande nog har Petter valt detta datum som releasedatum av Lenins Guld.\nPetter kommer\, förutom att prata om boken\, också presentera helt unika pressbilder och bevarat bildmaterial från sovjetiska tidningsarkiv\, 1917-1945. Bland annat fotografier från Sovjets sammanbrott t.ex. Gorbatjov efter kuppen 1991 m.m. Unika signerade pappersoriginal från sovjetiska och internationella fotografer och en privat samling från CCCP 1917-1991. \nFörfattarfoto: Hans Lindblom/SVT
URL:https://www.vangavan.se/event/bokrelease-med-petter-osterlund/
LOCATION:Vängåvans Bok & Papper AB\, Storgatan 22\, Sundsvall\, 85231\, Sverige
CATEGORIES:Signering
ATTACH;FMTTYPE=image/jpeg:https://media.vangavan.se/2020/11/Petter-Osterlund-foto-Hans-Lindblom-svt-850px.jpg
ORGANIZER;CN="V%C3%A4ng%C3%A5vans Bok & Papper AB":MAILTO:info@vangavan.se
END:VEVENT
BEGIN:VEVENT
DTSTART;TZID=Europe/Stockholm:20201031T120000
DTEND;TZID=Europe/Stockholm:20201031T150000
DTSTAMP:20260425T043439
CREATED:20201029T155632Z
LAST-MODIFIED:20201030T111553Z
UID:6623-1604145600-1604156400@www.vangavan.se
SUMMARY:Bokrelease med Carina Aynsley
DESCRIPTION:Välkommen på Bokrelease med Carina Aynsley\, där hon signerar sin nya bok Lite salt\, lite surt och resten sött. \nCarina finns hos oss mellan kl 12-15 lördag 31 oktober. Även signering söndag 1/11 kl 12-15 & måndag kl 12-17. \nLite salt\, lite surt och resten sött
URL:https://www.vangavan.se/event/bokrelease-carina-aynsley/
LOCATION:Vängåvans Bok & Papper AB\, Storgatan 22\, Sundsvall\, 85231\, Sverige
CATEGORIES:Signering
ORGANIZER;CN="V%C3%A4ng%C3%A5vans Bok & Papper AB":MAILTO:info@vangavan.se
END:VEVENT
END:VCALENDAR