BEGIN:VCALENDAR
VERSION:2.0
PRODID:-//Vängåvans Bok &amp; Papper AB - ECPv6.15.20//NONSGML v1.0//EN
CALSCALE:GREGORIAN
METHOD:PUBLISH
X-ORIGINAL-URL:https://www.vangavan.se
X-WR-CALDESC:Händelser för Vängåvans Bok &amp; Papper AB
REFRESH-INTERVAL;VALUE=DURATION:PT1H
X-Robots-Tag:noindex
X-PUBLISHED-TTL:PT1H
BEGIN:VTIMEZONE
TZID:Europe/Stockholm
BEGIN:DAYLIGHT
TZOFFSETFROM:+0100
TZOFFSETTO:+0200
TZNAME:CEST
DTSTART:20240331T010000
END:DAYLIGHT
BEGIN:STANDARD
TZOFFSETFROM:+0200
TZOFFSETTO:+0100
TZNAME:CET
DTSTART:20241027T010000
END:STANDARD
BEGIN:DAYLIGHT
TZOFFSETFROM:+0100
TZOFFSETTO:+0200
TZNAME:CEST
DTSTART:20250330T010000
END:DAYLIGHT
BEGIN:STANDARD
TZOFFSETFROM:+0200
TZOFFSETTO:+0100
TZNAME:CET
DTSTART:20251026T010000
END:STANDARD
BEGIN:DAYLIGHT
TZOFFSETFROM:+0100
TZOFFSETTO:+0200
TZNAME:CEST
DTSTART:20260329T010000
END:DAYLIGHT
BEGIN:STANDARD
TZOFFSETFROM:+0200
TZOFFSETTO:+0100
TZNAME:CET
DTSTART:20261025T010000
END:STANDARD
END:VTIMEZONE
BEGIN:VEVENT
DTSTART;TZID=Europe/Stockholm:20251219T120000
DTEND;TZID=Europe/Stockholm:20251219T140000
DTSTAMP:20260425T135343
CREATED:20251211T114404Z
LAST-MODIFIED:20251217T123005Z
UID:25829-1766145600-1766152800@www.vangavan.se
SUMMARY:Bokrelease\, Svenåke Boström
DESCRIPTION:Vi välkomnar bokförläggaren Svenåke Boström fredagen den 19 december mellan kl. 12-14.\n\n\n\n\n\n\n\nDet är bokrelease av böckerna “Tre tvålar till Riga” samt “Jakten på en identitet”. Läs mera om böckerna här! \n\n\n\nFri Entré\, varmt välkommen!
URL:https://www.vangavan.se/event/bokrelease-svenake-bostrom/
LOCATION:Vängåvans Bok & Papper AB\, Storgatan 22\, Sundsvall\, 85231\, Sverige
CATEGORIES:Signering
ATTACH;FMTTYPE=image/jpeg:https://media.vangavan.se/2024/07/Svenake-Bostrom_480px.jpg
ORGANIZER;CN="V%C3%A4ng%C3%A5vans Bok & Papper AB":MAILTO:info@vangavan.se
END:VEVENT
END:VCALENDAR