BEGIN:VCALENDAR
VERSION:2.0
PRODID:-//Vängåvans Bok &amp; Papper AB - ECPv6.15.20//NONSGML v1.0//EN
CALSCALE:GREGORIAN
METHOD:PUBLISH
X-WR-CALNAME:Vängåvans Bok &amp; Papper AB
X-ORIGINAL-URL:https://www.vangavan.se
X-WR-CALDESC:Händelser för Vängåvans Bok &amp; Papper AB
REFRESH-INTERVAL;VALUE=DURATION:PT1H
X-Robots-Tag:noindex
X-PUBLISHED-TTL:PT1H
BEGIN:VTIMEZONE
TZID:Europe/Stockholm
BEGIN:DAYLIGHT
TZOFFSETFROM:+0100
TZOFFSETTO:+0200
TZNAME:CEST
DTSTART:20240331T010000
END:DAYLIGHT
BEGIN:STANDARD
TZOFFSETFROM:+0200
TZOFFSETTO:+0100
TZNAME:CET
DTSTART:20241027T010000
END:STANDARD
BEGIN:DAYLIGHT
TZOFFSETFROM:+0100
TZOFFSETTO:+0200
TZNAME:CEST
DTSTART:20250330T010000
END:DAYLIGHT
BEGIN:STANDARD
TZOFFSETFROM:+0200
TZOFFSETTO:+0100
TZNAME:CET
DTSTART:20251026T010000
END:STANDARD
BEGIN:DAYLIGHT
TZOFFSETFROM:+0100
TZOFFSETTO:+0200
TZNAME:CEST
DTSTART:20260329T010000
END:DAYLIGHT
BEGIN:STANDARD
TZOFFSETFROM:+0200
TZOFFSETTO:+0100
TZNAME:CET
DTSTART:20261025T010000
END:STANDARD
END:VTIMEZONE
BEGIN:VEVENT
DTSTART;TZID=Europe/Stockholm:20251204T183000
DTEND;TZID=Europe/Stockholm:20251204T200000
DTSTAMP:20260425T135528
CREATED:20251105T123715Z
LAST-MODIFIED:20251111T091928Z
UID:25591-1764873000-1764878400@www.vangavan.se
SUMMARY:Bokens Afton Tove Alsterdal
DESCRIPTION:Tove Alsterdal har gjort sig känd som en av Sveriges främsta deckarförfattare – inte minst med trilogin från Ådalen. Rotvälta\, den första boken om polisen Eira Sjödin\, utsågs till årets bästa deckare i både Sverige och Norden. \n\n\n\nNu har Tove Alsterdal skrivit något helt nytt: en roman om den krångliga kärleken. \n\n\n\nJag önskar dig lagom lycklig utspelar sig kring 1960-talets början och bygger på verkliga händelser i hennes egen familj\, Den handlar om författarens far och älskarinnan som aldrig kom över honom. \n\n\n\nVälkommen att träffa Tove Alsterdal. Det blir samtal om hennes nya roman “Jag önskar dig lagom lycklig” som är Toves första roman utanför spänningsgenren. \n\n\n\n”… lysande språk … en njutning att läsa.”\, Go’kväll\, SVT \n\n\n\nBiljetter köper du i vår webbshop eller i butiken på storgatan 22. \n\n\n\nVälkommen! \n\n\n\nFoto Copyright: Annika Marklund
URL:https://www.vangavan.se/event/bokens-afton-tove-alsterdal/
LOCATION:Vängåvans Bok & Papper AB\, Storgatan 22\, Sundsvall\, 85231\, Sverige
CATEGORIES:Bokens Afton
ATTACH;FMTTYPE=image/jpeg:https://media.vangavan.se/2025/11/tove-alsterdal-foto-annika-marklund-event-480px.jpg
ORGANIZER;CN="V%C3%A4ng%C3%A5vans Bok & Papper AB":MAILTO:info@vangavan.se
END:VEVENT
END:VCALENDAR